BEGIN:VCALENDAR
VERSION:2.0
PRODID:-//Orkney Archaeology Society - ECPv6.15.20//NONSGML v1.0//EN
CALSCALE:GREGORIAN
METHOD:PUBLISH
X-WR-CALNAME:Orkney Archaeology Society
X-ORIGINAL-URL:https://orkneyarchaeologysociety.org.uk
X-WR-CALDESC:Events for Orkney Archaeology Society
REFRESH-INTERVAL;VALUE=DURATION:PT1H
X-Robots-Tag:noindex
X-PUBLISHED-TTL:PT1H
BEGIN:VTIMEZONE
TZID:Europe/London
BEGIN:DAYLIGHT
TZOFFSETFROM:+0000
TZOFFSETTO:+0100
TZNAME:BST
DTSTART:20250330T010000
END:DAYLIGHT
BEGIN:STANDARD
TZOFFSETFROM:+0100
TZOFFSETTO:+0000
TZNAME:GMT
DTSTART:20251026T010000
END:STANDARD
BEGIN:DAYLIGHT
TZOFFSETFROM:+0000
TZOFFSETTO:+0100
TZNAME:BST
DTSTART:20260329T010000
END:DAYLIGHT
BEGIN:STANDARD
TZOFFSETFROM:+0100
TZOFFSETTO:+0000
TZNAME:GMT
DTSTART:20261025T010000
END:STANDARD
BEGIN:DAYLIGHT
TZOFFSETFROM:+0000
TZOFFSETTO:+0100
TZNAME:BST
DTSTART:20270328T010000
END:DAYLIGHT
BEGIN:STANDARD
TZOFFSETFROM:+0100
TZOFFSETTO:+0000
TZNAME:GMT
DTSTART:20271031T010000
END:STANDARD
END:VTIMEZONE
BEGIN:VEVENT
DTSTART;VALUE=DATE:20260608
DTEND;VALUE=DATE:20260718
DTSTAMP:20260421T200539
CREATED:20251217T172827Z
LAST-MODIFIED:20251217T172827Z
UID:4433-1780876800-1784332799@orkneyarchaeologysociety.org.uk
SUMMARY:Dig: The Cairns - Provisional dates
DESCRIPTION:
URL:https://orkneyarchaeologysociety.org.uk/event/dig-the-cairns-provisional-dates/
LOCATION:The Cairns\, South Ronaldsay\, Orkney
CATEGORIES:Digs
ATTACH;FMTTYPE=image/png:https://orkneyarchaeologysociety.org.uk/wp-content/uploads/2025/07/webOAS_CAIRNS_SHADOWRGB-e1753016853518.png
END:VEVENT
BEGIN:VEVENT
DTSTART;TZID=Europe/London:20260618T190000
DTEND;TZID=Europe/London:20260618T213000
DTSTAMP:20260421T200539
CREATED:20260130T162702Z
LAST-MODIFIED:20260223T130320Z
UID:4464-1781809200-1781818200@orkneyarchaeologysociety.org.uk
SUMMARY:Talk: Forthcoming Event by Dr Antonia Thomas
DESCRIPTION:Post excavation of decorative stones – methods and approaches \nvenue and all details to be confirmed
URL:https://orkneyarchaeologysociety.org.uk/event/forthcoming-event-by-dr-antonia-thomas/
LOCATION:To be announced
CATEGORIES:Talks
ATTACH;FMTTYPE=image/png:https://orkneyarchaeologysociety.org.uk/wp-content/uploads/2025/06/all-e1751120093874.png
ORGANIZER;CN="Orkney Archaeology Society":MAILTO:enquiries@orkneyarchaeologysociety.org.uk
END:VEVENT
END:VCALENDAR