BEGIN:VCALENDAR
VERSION:2.0
PRODID:-//Orkney Archaeology Society - ECPv6.15.20//NONSGML v1.0//EN
CALSCALE:GREGORIAN
METHOD:PUBLISH
X-WR-CALNAME:Orkney Archaeology Society
X-ORIGINAL-URL:https://orkneyarchaeologysociety.org.uk
X-WR-CALDESC:Events for Orkney Archaeology Society
REFRESH-INTERVAL;VALUE=DURATION:PT1H
X-Robots-Tag:noindex
X-PUBLISHED-TTL:PT1H
BEGIN:VTIMEZONE
TZID:Europe/London
BEGIN:DAYLIGHT
TZOFFSETFROM:+0000
TZOFFSETTO:+0100
TZNAME:BST
DTSTART:20250330T010000
END:DAYLIGHT
BEGIN:STANDARD
TZOFFSETFROM:+0100
TZOFFSETTO:+0000
TZNAME:GMT
DTSTART:20251026T010000
END:STANDARD
BEGIN:DAYLIGHT
TZOFFSETFROM:+0000
TZOFFSETTO:+0100
TZNAME:BST
DTSTART:20260329T010000
END:DAYLIGHT
BEGIN:STANDARD
TZOFFSETFROM:+0100
TZOFFSETTO:+0000
TZNAME:GMT
DTSTART:20261025T010000
END:STANDARD
BEGIN:DAYLIGHT
TZOFFSETFROM:+0000
TZOFFSETTO:+0100
TZNAME:BST
DTSTART:20270328T010000
END:DAYLIGHT
BEGIN:STANDARD
TZOFFSETFROM:+0100
TZOFFSETTO:+0000
TZNAME:GMT
DTSTART:20271031T010000
END:STANDARD
END:VTIMEZONE
BEGIN:VEVENT
DTSTART;TZID=Europe/London:20260219T190000
DTEND;TZID=Europe/London:20260219T210000
DTSTAMP:20260421T193856
CREATED:20251202T190049Z
LAST-MODIFIED:20251202T192356Z
UID:4411-1771527600-1771534800@orkneyarchaeologysociety.org.uk
SUMMARY:Talk: From Bone to Being:
DESCRIPTION:The Convergence of Science\, Art\, and the Human Story in Facial Reconstruction. \nby \nDr Tobias Houlton\, Craniofacial Anthropologist and Forensic Imaging Consultant \nThis talk will be on Zoom at https://us02web.zoom.us/j/88208065294?pwd=vzgPHfb7G9X0qQudb9nJEQy74pQ2Er.1
URL:https://orkneyarchaeologysociety.org.uk/event/talk-from-bone-to-being/
LOCATION:On-Line
CATEGORIES:Talks
ATTACH;FMTTYPE=image/png:https://orkneyarchaeologysociety.org.uk/wp-content/uploads/2025/07/webOAS_VIKING_SHADOWRGB-e1753016891361.png
ORGANIZER;CN="Orkney Archaeology Society":MAILTO:enquiries@orkneyarchaeologysociety.org.uk
END:VEVENT
END:VCALENDAR