BEGIN:VCALENDAR
VERSION:2.0
PRODID:-//Orkney Archaeology Society - ECPv6.15.20//NONSGML v1.0//EN
CALSCALE:GREGORIAN
METHOD:PUBLISH
X-ORIGINAL-URL:https://orkneyarchaeologysociety.org.uk
X-WR-CALDESC:Events for Orkney Archaeology Society
REFRESH-INTERVAL;VALUE=DURATION:PT1H
X-Robots-Tag:noindex
X-PUBLISHED-TTL:PT1H
BEGIN:VTIMEZONE
TZID:Europe/London
BEGIN:DAYLIGHT
TZOFFSETFROM:+0000
TZOFFSETTO:+0100
TZNAME:BST
DTSTART:20240331T010000
END:DAYLIGHT
BEGIN:STANDARD
TZOFFSETFROM:+0100
TZOFFSETTO:+0000
TZNAME:GMT
DTSTART:20241027T010000
END:STANDARD
BEGIN:DAYLIGHT
TZOFFSETFROM:+0000
TZOFFSETTO:+0100
TZNAME:BST
DTSTART:20250330T010000
END:DAYLIGHT
BEGIN:STANDARD
TZOFFSETFROM:+0100
TZOFFSETTO:+0000
TZNAME:GMT
DTSTART:20251026T010000
END:STANDARD
BEGIN:DAYLIGHT
TZOFFSETFROM:+0000
TZOFFSETTO:+0100
TZNAME:BST
DTSTART:20260329T010000
END:DAYLIGHT
BEGIN:STANDARD
TZOFFSETFROM:+0100
TZOFFSETTO:+0000
TZNAME:GMT
DTSTART:20261025T010000
END:STANDARD
END:VTIMEZONE
BEGIN:VEVENT
DTSTART;TZID=Europe/London:20251204T190000
DTEND;TZID=Europe/London:20251204T203000
DTSTAMP:20260421T225548
CREATED:20251119T111317Z
LAST-MODIFIED:20251119T111317Z
UID:4401-1764874800-1764880200@orkneyarchaeologysociety.org.uk
SUMMARY:Talk: Ness Battery - Then and Now.
DESCRIPTION:By Andrew Hollinrake \nArchaeologist and historian Andrew Hollinrake has been researching the site and conducting guided tours since 2009\, but there are still new discoveries in the form of archival and personal material turning up every year.  Only recently was the true identity of the soldier who painted the stunning mural revealed\, and this year\, for the first time\, a member of the artist’s family paid a visit to the site. There’s more to reveal in this talk including some previously unseen photographs from WWI \nFree Entry with Raffle all welcome.
URL:https://orkneyarchaeologysociety.org.uk/event/talk-ness-battery-then-and-now/
LOCATION:King Street Halls\, King Street\, Kirkwall\, Orkney\, KW15 1JF\, United Kingdom
CATEGORIES:Talks
ATTACH;FMTTYPE=image/jpeg:https://orkneyarchaeologysociety.org.uk/wp-content/uploads/2025/11/Andrewtalk2025.jpg
ORGANIZER;CN="Orkney Archaeology Society":MAILTO:enquiries@orkneyarchaeologysociety.org.uk
END:VEVENT
END:VCALENDAR