BEGIN:VCALENDAR
VERSION:2.0
PRODID:-//Orkney Archaeology Society - ECPv6.15.20//NONSGML v1.0//EN
CALSCALE:GREGORIAN
METHOD:PUBLISH
X-WR-CALNAME:Orkney Archaeology Society
X-ORIGINAL-URL:https://orkneyarchaeologysociety.org.uk
X-WR-CALDESC:Events for Orkney Archaeology Society
REFRESH-INTERVAL;VALUE=DURATION:PT1H
X-Robots-Tag:noindex
X-PUBLISHED-TTL:PT1H
BEGIN:VTIMEZONE
TZID:Europe/London
BEGIN:DAYLIGHT
TZOFFSETFROM:+0000
TZOFFSETTO:+0100
TZNAME:BST
DTSTART:20240331T010000
END:DAYLIGHT
BEGIN:STANDARD
TZOFFSETFROM:+0100
TZOFFSETTO:+0000
TZNAME:GMT
DTSTART:20241027T010000
END:STANDARD
BEGIN:DAYLIGHT
TZOFFSETFROM:+0000
TZOFFSETTO:+0100
TZNAME:BST
DTSTART:20250330T010000
END:DAYLIGHT
BEGIN:STANDARD
TZOFFSETFROM:+0100
TZOFFSETTO:+0000
TZNAME:GMT
DTSTART:20251026T010000
END:STANDARD
BEGIN:DAYLIGHT
TZOFFSETFROM:+0000
TZOFFSETTO:+0100
TZNAME:BST
DTSTART:20260329T010000
END:DAYLIGHT
BEGIN:STANDARD
TZOFFSETFROM:+0100
TZOFFSETTO:+0000
TZNAME:GMT
DTSTART:20261025T010000
END:STANDARD
END:VTIMEZONE
BEGIN:VEVENT
DTSTART;TZID=Europe/London:20250607T190000
DTEND;TZID=Europe/London:20250607T210000
DTSTAMP:20260422T091415
CREATED:20250529T160800Z
LAST-MODIFIED:20250602T170632Z
UID:4019-1749322800-1749330000@orkneyarchaeologysociety.org.uk
SUMMARY:Talk: Loch of Ayre with 'show and tell' beforehand
DESCRIPTION:Broch and Beyond: Past and Present Investigations at the Loch of Ayre \nBy Martin Carruthers and Amanda Brend \nThis event will showcase the recent geophysical surveys undertaken at Loch of Ayre broch by ORCA\, UHI Archaeology Institute for the St Mary’s community and the Loch of Ayre Walkway Association. \nThe geophysical surveys were successful in revealing the probable existence of an extramural settlement associated with the Loch of Ayre broch and in helping to determine its character and extent. The survey also added to our picture of the landscape around\, beyond the Scheduled Area of the broch site\, hinting at the possibility of other settlement features\, some of which may be associated with the broch\, and cultivation remains from the Medieval/post-Medieval periods. \nMeanwhile\, the archaeologists will also discuss the excavations of the broch that were undertaken in 1901\, in which the interior of the broch and its outer and inner walls were exposed. A range of objects; artefacts and animal bones\, were excavated and some of these were beautifully photographed and we can discuss these in terms of other\, more recently\, excavated assemblages from Orcadian Iron Age sites and pace the old finds in context. \nA special feature of the event is a ‘show-and-tell’ from 4:30 . The archaeologists encourage anyone attending to bring along any potential archaeological objects they might have found\, and they will seek to identify these.
URL:https://orkneyarchaeologysociety.org.uk/event/talk-loch-of-ayre-with-show-and-tell-earlier/
LOCATION:Holm Hall
CATEGORIES:Talks
ATTACH;FMTTYPE=image/jpeg:https://orkneyarchaeologysociety.org.uk/wp-content/uploads/2025/05/Screenshot_20250529_131435_Gallery-1.jpg
ORGANIZER;CN="Orkney Archaeology Society":MAILTO:enquiries@orkneyarchaeologysociety.org.uk
END:VEVENT
END:VCALENDAR