BEGIN:VCALENDAR
VERSION:2.0
PRODID:-//Orkney Archaeology Society - ECPv6.15.20//NONSGML v1.0//EN
CALSCALE:GREGORIAN
METHOD:PUBLISH
X-WR-CALNAME:Orkney Archaeology Society
X-ORIGINAL-URL:https://orkneyarchaeologysociety.org.uk
X-WR-CALDESC:Events for Orkney Archaeology Society
REFRESH-INTERVAL;VALUE=DURATION:PT1H
X-Robots-Tag:noindex
X-PUBLISHED-TTL:PT1H
BEGIN:VTIMEZONE
TZID:Europe/London
BEGIN:DAYLIGHT
TZOFFSETFROM:+0000
TZOFFSETTO:+0100
TZNAME:BST
DTSTART:20240331T010000
END:DAYLIGHT
BEGIN:STANDARD
TZOFFSETFROM:+0100
TZOFFSETTO:+0000
TZNAME:GMT
DTSTART:20241027T010000
END:STANDARD
BEGIN:DAYLIGHT
TZOFFSETFROM:+0000
TZOFFSETTO:+0100
TZNAME:BST
DTSTART:20250330T010000
END:DAYLIGHT
BEGIN:STANDARD
TZOFFSETFROM:+0100
TZOFFSETTO:+0000
TZNAME:GMT
DTSTART:20251026T010000
END:STANDARD
BEGIN:DAYLIGHT
TZOFFSETFROM:+0000
TZOFFSETTO:+0100
TZNAME:BST
DTSTART:20260329T010000
END:DAYLIGHT
BEGIN:STANDARD
TZOFFSETFROM:+0100
TZOFFSETTO:+0000
TZNAME:GMT
DTSTART:20261025T010000
END:STANDARD
END:VTIMEZONE
BEGIN:VEVENT
DTSTART;VALUE=DATE:20250320
DTEND;VALUE=DATE:20250321
DTSTAMP:20260422T134909
CREATED:20250126T103912Z
LAST-MODIFIED:20250317T145832Z
UID:3685-1742428800-1742515199@orkneyarchaeologysociety.org.uk
SUMMARY:Talk: Further discoveries at Blomuir Passage Grave\, Holm
DESCRIPTION:By Hugo Anderson Wymark National Museums Scotland \nIn 2023 a new Neolithic passage grave was discovered at Blomuir\, Holm. Excavations in 2024 fully excavated the chamber and side cells\, revealing further burials and details of the structure. This talk provides an update on the excavation. \nThis talk will be recorded and will appear on our Youtube channel\, firstly for our members and then in a couple of weeks time for all. \nThis will be on Zoom Thursday 20th March at 7pm we are having problems with the web site caching badly and delivering corrupted pages. This should soon correct but in the meantime don’t worry about RSVP and here is the link for the talk. \nhttps://us02web.zoom.us/j/84260186779
URL:https://orkneyarchaeologysociety.org.uk/event/talk-further-discoveries-at-blomuir-passage-grave-holm/
LOCATION:On-Line
CATEGORIES:Talks
ATTACH;FMTTYPE=image/png:https://orkneyarchaeologysociety.org.uk/wp-content/uploads/2025/01/Blomuir2025.png
ORGANIZER;CN="Orkney Archaeology Society":MAILTO:enquiries@orkneyarchaeologysociety.org.uk
END:VEVENT
END:VCALENDAR