BEGIN:VCALENDAR
VERSION:2.0
PRODID:-//Orkney Archaeology Society - ECPv6.15.20//NONSGML v1.0//EN
CALSCALE:GREGORIAN
METHOD:PUBLISH
X-ORIGINAL-URL:https://orkneyarchaeologysociety.org.uk
X-WR-CALDESC:Events for Orkney Archaeology Society
REFRESH-INTERVAL;VALUE=DURATION:PT1H
X-Robots-Tag:noindex
X-PUBLISHED-TTL:PT1H
BEGIN:VTIMEZONE
TZID:Europe/London
BEGIN:DAYLIGHT
TZOFFSETFROM:+0000
TZOFFSETTO:+0100
TZNAME:BST
DTSTART:20240331T010000
END:DAYLIGHT
BEGIN:STANDARD
TZOFFSETFROM:+0100
TZOFFSETTO:+0000
TZNAME:GMT
DTSTART:20241027T010000
END:STANDARD
BEGIN:DAYLIGHT
TZOFFSETFROM:+0000
TZOFFSETTO:+0100
TZNAME:BST
DTSTART:20250330T010000
END:DAYLIGHT
BEGIN:STANDARD
TZOFFSETFROM:+0100
TZOFFSETTO:+0000
TZNAME:GMT
DTSTART:20251026T010000
END:STANDARD
BEGIN:DAYLIGHT
TZOFFSETFROM:+0000
TZOFFSETTO:+0100
TZNAME:BST
DTSTART:20260329T010000
END:DAYLIGHT
BEGIN:STANDARD
TZOFFSETFROM:+0100
TZOFFSETTO:+0000
TZNAME:GMT
DTSTART:20261025T010000
END:STANDARD
END:VTIMEZONE
BEGIN:VEVENT
DTSTART;TZID=Europe/London:20250220T190000
DTEND;TZID=Europe/London:20250220T190000
DTSTAMP:20260422T152159
CREATED:20250126T103447Z
LAST-MODIFIED:20250306T165349Z
UID:3683-1740078000-1740078000@orkneyarchaeologysociety.org.uk
SUMMARY:Video: A Saint in Stone – the material legacy of the St Magnus in the North Atlantic
DESCRIPTION:By Jenny Murray\,  UHI/Shetland Museum \n \nThe core of this current study is the objective to tell the story of St Magnus in a different and new way; to widen the narrative beyond the existing hagiographic studies\, concentrating instead on the material legacy both in the landscape of his veneration\, and related material culture. This talk will  build on previous work undertaken by Sarah Jane Gibbon in Orkney\, by expanding the record of material relating to the cult of St Magnus in Caithness\, Shetland\, the Faroes\, Iceland and Norway. This is an opportunity to see St Magnus in a new light\, and Jenny has some exciting news to share  about St Magnus in Orkney! \n  \nThis talk is free but please consider a donation. \n 
URL:https://orkneyarchaeologysociety.org.uk/event/talk-a-saint-in-stone-the-material-legacy-of-the-st-magnus-in-the-north-atlantic/
LOCATION:St Magnus Centre\, Palace Road\, Kirkwall\, Orkney
CATEGORIES:Talks
ATTACH;FMTTYPE=image/png:https://orkneyarchaeologysociety.org.uk/wp-content/uploads/2025/01/Jenny-Murray.png
ORGANIZER;CN="Orkney Archaeology Society":MAILTO:enquiries@orkneyarchaeologysociety.org.uk
END:VEVENT
END:VCALENDAR