BEGIN:VCALENDAR
VERSION:2.0
PRODID:-//Orkney Archaeology Society - ECPv6.15.20//NONSGML v1.0//EN
CALSCALE:GREGORIAN
METHOD:PUBLISH
X-ORIGINAL-URL:https://orkneyarchaeologysociety.org.uk
X-WR-CALDESC:Events for Orkney Archaeology Society
REFRESH-INTERVAL;VALUE=DURATION:PT1H
X-Robots-Tag:noindex
X-PUBLISHED-TTL:PT1H
BEGIN:VTIMEZONE
TZID:Europe/London
BEGIN:DAYLIGHT
TZOFFSETFROM:+0000
TZOFFSETTO:+0100
TZNAME:BST
DTSTART:20240331T010000
END:DAYLIGHT
BEGIN:STANDARD
TZOFFSETFROM:+0100
TZOFFSETTO:+0000
TZNAME:GMT
DTSTART:20241027T010000
END:STANDARD
BEGIN:DAYLIGHT
TZOFFSETFROM:+0000
TZOFFSETTO:+0100
TZNAME:BST
DTSTART:20250330T010000
END:DAYLIGHT
BEGIN:STANDARD
TZOFFSETFROM:+0100
TZOFFSETTO:+0000
TZNAME:GMT
DTSTART:20251026T010000
END:STANDARD
BEGIN:DAYLIGHT
TZOFFSETFROM:+0000
TZOFFSETTO:+0100
TZNAME:BST
DTSTART:20260329T010000
END:DAYLIGHT
BEGIN:STANDARD
TZOFFSETFROM:+0100
TZOFFSETTO:+0000
TZNAME:GMT
DTSTART:20261025T010000
END:STANDARD
END:VTIMEZONE
BEGIN:VEVENT
DTSTART;TZID=Europe/London:20250123T190000
DTEND;TZID=Europe/London:20250123T203000
DTSTAMP:20260422T165345
CREATED:20250115T142716Z
LAST-MODIFIED:20250226T123422Z
UID:3542-1737658800-1737664200@orkneyarchaeologysociety.org.uk
SUMMARY:Video: What does a Regional Archaeologist do?
DESCRIPTION:Paul Sharman\, Orkney Islands Council \nPaul talks about his role as the Orkney Islands Council’s Archaeologist. The remit is huge and ranges from helping pull together responses to the Sanday wreckage to finding where to bury 76 pilot whales; encouraging community archaeological and cultural heritage projects; giving input on the Orkney World Heritage Management Plan. Additionally he gives advice on the potential implications of changes in agricultural land use or a planning application on Orkney’s rich archaeological heritage. \nThe recording of the talk is here \nIf you enjoy our free talks then please consider a donation here
URL:https://orkneyarchaeologysociety.org.uk/event/talk-what-does-a-regional-archaeologist-do/
LOCATION:On-Line
CATEGORIES:Talks
ATTACH;FMTTYPE=image/png:https://orkneyarchaeologysociety.org.uk/wp-content/uploads/2025/01/23-01-2025.png
ORGANIZER;CN="Orkney Archaeology Society":MAILTO:enquiries@orkneyarchaeologysociety.org.uk
END:VEVENT
END:VCALENDAR