BEGIN:VCALENDAR
VERSION:2.0
PRODID:-//Orkney Archaeology Society - ECPv6.15.20//NONSGML v1.0//EN
CALSCALE:GREGORIAN
METHOD:PUBLISH
X-ORIGINAL-URL:https://orkneyarchaeologysociety.org.uk
X-WR-CALDESC:Events for Orkney Archaeology Society
REFRESH-INTERVAL;VALUE=DURATION:PT1H
X-Robots-Tag:noindex
X-PUBLISHED-TTL:PT1H
BEGIN:VTIMEZONE
TZID:Europe/London
BEGIN:DAYLIGHT
TZOFFSETFROM:+0000
TZOFFSETTO:+0100
TZNAME:BST
DTSTART:20230326T010000
END:DAYLIGHT
BEGIN:STANDARD
TZOFFSETFROM:+0100
TZOFFSETTO:+0000
TZNAME:GMT
DTSTART:20231029T010000
END:STANDARD
BEGIN:DAYLIGHT
TZOFFSETFROM:+0000
TZOFFSETTO:+0100
TZNAME:BST
DTSTART:20240331T010000
END:DAYLIGHT
BEGIN:STANDARD
TZOFFSETFROM:+0100
TZOFFSETTO:+0000
TZNAME:GMT
DTSTART:20241027T010000
END:STANDARD
BEGIN:DAYLIGHT
TZOFFSETFROM:+0000
TZOFFSETTO:+0100
TZNAME:BST
DTSTART:20250330T010000
END:DAYLIGHT
BEGIN:STANDARD
TZOFFSETFROM:+0100
TZOFFSETTO:+0000
TZNAME:GMT
DTSTART:20251026T010000
END:STANDARD
END:VTIMEZONE
BEGIN:VEVENT
DTSTART;TZID=Europe/London:20241124T123000
DTEND;TZID=Europe/London:20241124T153000
DTSTAMP:20260422T202604
CREATED:20241031T172215Z
LAST-MODIFIED:20241119T175010Z
UID:3455-1732451400-1732462200@orkneyarchaeologysociety.org.uk
SUMMARY:Walk: Skaill Farm\, Rousay recent discoveries changed times
DESCRIPTION:Because of the weather: \nMeet at Midhowe carpark at 12:30 am. \nLunch: Free lunch in community room from 12. \nTalk: is now on Thursday Nov 28 at 7pm in the school community room. \nFree event \, no need to book \, come along for all or part. \nContact studyarchaeology.uhi.ac.uk
URL:https://orkneyarchaeologysociety.org.uk/event/walk-and-talk-skaill-farm-rousay-recent-discoveries/
LOCATION:Skaill Farm\, Rousay\, Orkney
CATEGORIES:Outside,Talks,Walks
ATTACH;FMTTYPE=image/jpeg:https://orkneyarchaeologysociety.org.uk/wp-content/uploads/2024/10/Skaill-Talk-poster-16-Nov-2024-V1.jpg
END:VEVENT
END:VCALENDAR