BEGIN:VCALENDAR
VERSION:2.0
PRODID:-//Orkney Archaeology Society - ECPv6.15.20//NONSGML v1.0//EN
CALSCALE:GREGORIAN
METHOD:PUBLISH
X-ORIGINAL-URL:https://orkneyarchaeologysociety.org.uk
X-WR-CALDESC:Events for Orkney Archaeology Society
REFRESH-INTERVAL;VALUE=DURATION:PT1H
X-Robots-Tag:noindex
X-PUBLISHED-TTL:PT1H
BEGIN:VTIMEZONE
TZID:Europe/London
BEGIN:DAYLIGHT
TZOFFSETFROM:+0000
TZOFFSETTO:+0100
TZNAME:BST
DTSTART:20230326T010000
END:DAYLIGHT
BEGIN:STANDARD
TZOFFSETFROM:+0100
TZOFFSETTO:+0000
TZNAME:GMT
DTSTART:20231029T010000
END:STANDARD
BEGIN:DAYLIGHT
TZOFFSETFROM:+0000
TZOFFSETTO:+0100
TZNAME:BST
DTSTART:20240331T010000
END:DAYLIGHT
BEGIN:STANDARD
TZOFFSETFROM:+0100
TZOFFSETTO:+0000
TZNAME:GMT
DTSTART:20241027T010000
END:STANDARD
BEGIN:DAYLIGHT
TZOFFSETFROM:+0000
TZOFFSETTO:+0100
TZNAME:BST
DTSTART:20250330T010000
END:DAYLIGHT
BEGIN:STANDARD
TZOFFSETFROM:+0100
TZOFFSETTO:+0000
TZNAME:GMT
DTSTART:20251026T010000
END:STANDARD
END:VTIMEZONE
BEGIN:VEVENT
DTSTART;TZID=Europe/London:20241029T190000
DTEND;TZID=Europe/London:20241029T210000
DTSTAMP:20260422T220518
CREATED:20241010T155110Z
LAST-MODIFIED:20241014T174844Z
UID:3439-1730228400-1730235600@orkneyarchaeologysociety.org.uk
SUMMARY:Talk: Storms\, Pseudonyms and Spinning Wheels – glimpses into the life of Lady Burroughs
DESCRIPTION:by Dr Nela Scholma- Mason (Independent Researcher) \nThe life story of Eliza D’Oyly Traill Burroughs (best known as Lady Burroughs; 1849-1908) has largely been overshadowed by that of her husband\, Lt-Gen Sir Frederick W Traill Burroughs (1831 – 1905). This talk will focus on her life\, drawing on a range of archival material\, including photographs and first-hand anecdotes. \nOAS – Lady Burroughs – Poster (pdf)
URL:https://orkneyarchaeologysociety.org.uk/event/talk-storms-pseudonyms-and-spinning-wheels-glimpses-into-the-life-of-lady-burroughs/
LOCATION:St Magnus Centre\, Palace Road\, Kirkwall\, Orkney
CATEGORIES:Talks
ATTACH;FMTTYPE=image/png:https://orkneyarchaeologysociety.org.uk/wp-content/uploads/2024/10/Screenshot-2024-10-14-184334.png
ORGANIZER;CN="Orkney Archaeology Society":MAILTO:enquiries@orkneyarchaeologysociety.org.uk
END:VEVENT
END:VCALENDAR